BEGIN:VCALENDAR
VERSION:2.0
PRODID:-//wp-events-plugin.com//7.2.3.1//EN
BEGIN:VEVENT
UID:393@sghochwand-oberwoessen.de
DTSTART:20241117T080000Z
DTEND:20241117T090000Z
DTSTAMP:20231222T190931Z
URL:https://sghochwand-oberwoessen.de/events/gemeinsamer-volkstrauertag-in
 -oberwoessen-2/
SUMMARY:gemeinsamer Volkstrauertag in Oberwössen
DESCRIPTION:
ATTACH;FMTTYPE=image/jpeg:https://sghochwand-oberwoessen.de/wp-content/upl
 oads/2019/11/SG-Hochwand-Oberwössen_Wappen-40x40cm-1.png
END:VEVENT
END:VCALENDAR