BEGIN:VCALENDAR
VERSION:2.0
PRODID:-//wp-events-plugin.com//7.2.3.1//EN
BEGIN:VEVENT
UID:464@sghochwand-oberwoessen.de
DTSTART:20260804T180000Z
DTEND:20260804T200000Z
DTSTAMP:20251123T114359Z
URL:https://sghochwand-oberwoessen.de/events/gaesteschiessen-53/
SUMMARY:Gästeschießen
DESCRIPTION:
ATTACH;FMTTYPE=image/jpeg:https://sghochwand-oberwoessen.de/wp-content/upl
 oads/2019/11/SG-Hochwand-Oberwössen_Wappen-40x40cm-1.png
CATEGORIES:Gästeschießen
END:VEVENT
END:VCALENDAR