BEGIN:VCALENDAR
VERSION:2.0
PRODID:-//wp-events-plugin.com//7.2.3.1//EN
BEGIN:VEVENT
UID:485@sghochwand-oberwoessen.de
DTSTART:20260607T073000Z
DTEND:20260607T103000Z
DTSTAMP:20260110T154601Z
URL:https://sghochwand-oberwoessen.de/events/fronleichnamsprozession-6/
SUMMARY:Fronleichnamsprozession
DESCRIPTION:Treffpunkt: 8\,30 Uhr Kirche\n\nBeginn 9:00 Uhr
ATTACH;FMTTYPE=image/jpeg:https://sghochwand-oberwoessen.de/wp-content/upl
 oads/2019/11/SG-Hochwand-Oberwössen_Wappen-40x40cm-1.png
END:VEVENT
END:VCALENDAR