BEGIN:VCALENDAR
VERSION:2.0
PRODID:-//wp-events-plugin.com//7.2.3.1//EN
BEGIN:VEVENT
UID:383@sghochwand-oberwoessen.de
DTSTART:20240602T073000Z
DTEND:20240602T090000Z
DTSTAMP:20231222T190307Z
URL:https://sghochwand-oberwoessen.de/events/fonleichnamsprozession-oberwo
 essen/
SUMMARY:Fonleichnamsprozession  Oberwössen
DESCRIPTION:Treffpunkt: 8.30 Uhr\, Beginn 9.00 Uhr
ATTACH;FMTTYPE=image/jpeg:https://sghochwand-oberwoessen.de/wp-content/upl
 oads/2019/11/SG-Hochwand-Oberwössen_Wappen-40x40cm-1.png
END:VEVENT
END:VCALENDAR